BEGIN:VCALENDAR
VERSION:2.0
PRODID:-//Asociación Educadora Argentina Rudolf Steiner - ECPv6.15.16//NONSGML v1.0//EN
CALSCALE:GREGORIAN
METHOD:PUBLISH
X-WR-CALNAME:Asociación Educadora Argentina Rudolf Steiner
X-ORIGINAL-URL:https://colegiosteiner.edu.ar
X-WR-CALDESC:Eventos para Asociación Educadora Argentina Rudolf Steiner
REFRESH-INTERVAL;VALUE=DURATION:PT1H
X-Robots-Tag:noindex
X-PUBLISHED-TTL:PT1H
BEGIN:VTIMEZONE
TZID:America/Argentina/Buenos_Aires
BEGIN:STANDARD
TZOFFSETFROM:-0300
TZOFFSETTO:-0300
TZNAME:-03
DTSTART:20220101T000000
END:STANDARD
END:VTIMEZONE
BEGIN:VEVENT
DTSTART;TZID=America/Argentina/Buenos_Aires:20230311T090000
DTEND;TZID=America/Argentina/Buenos_Aires:20230311T123000
DTSTAMP:20260420T203041
CREATED:20230307T221013Z
LAST-MODIFIED:20230307T221013Z
UID:1342-1678525200-1678537800@colegiosteiner.edu.ar
SUMMARY:Clase abierta de Spacial Dynamics
DESCRIPTION:
URL:https://colegiosteiner.edu.ar/evento/clase-abierta-de-spacial-dynamics/
LOCATION:Asociación Educadora Argentina Rudolf Steiner\, Ignacio Warnes 1357\, Florida\, Buenos Aires\, 1602\, Argentina
CATEGORIES:Eventos
ATTACH;FMTTYPE=image/jpeg:https://colegiosteiner.edu.ar/web22/wp-content/uploads/2023/03/CSteiner_spacial-dinamics.jpg
END:VEVENT
END:VCALENDAR