BEGIN:VCALENDAR
VERSION:2.0
PRODID:-//Asociación Educadora Argentina Rudolf Steiner - ECPv6.15.16//NONSGML v1.0//EN
CALSCALE:GREGORIAN
METHOD:PUBLISH
X-ORIGINAL-URL:https://colegiosteiner.edu.ar
X-WR-CALDESC:Eventos para Asociación Educadora Argentina Rudolf Steiner
REFRESH-INTERVAL;VALUE=DURATION:PT1H
X-Robots-Tag:noindex
X-PUBLISHED-TTL:PT1H
BEGIN:VTIMEZONE
TZID:America/Argentina/Buenos_Aires
BEGIN:STANDARD
TZOFFSETFROM:-0300
TZOFFSETTO:-0300
TZNAME:-03
DTSTART:20220101T000000
END:STANDARD
END:VTIMEZONE
BEGIN:VEVENT
DTSTART;TZID=America/Argentina/Buenos_Aires:20230812T160000
DTEND;TZID=America/Argentina/Buenos_Aires:20230812T200000
DTSTAMP:20260420T104418
CREATED:20230811T132417Z
LAST-MODIFIED:20230811T132417Z
UID:1511-1691856000-1691870400@colegiosteiner.edu.ar
SUMMARY:Varieté del 12°
DESCRIPTION:Queridas familias y jóvenes: \nCon alegría compartimos la invitación para la Varieté del 12°\, que se realizará este sábado 12 de agosto de 16 a 20hs en la escuela (Warnes 1357). Habrá muestras fotográficas\, poesía\, shows musicales y un riquísimo buffet. \n¡Los esperamos! \n 
URL:https://colegiosteiner.edu.ar/evento/variete-del-12/
LOCATION:Asociación Educadora Argentina Rudolf Steiner\, Ignacio Warnes 1357\, Florida\, Buenos Aires\, 1602\, Argentina
CATEGORIES:Eventos
ATTACH;FMTTYPE=image/jpeg:https://colegiosteiner.edu.ar/web22/wp-content/uploads/2023/08/Variete.jpg
END:VEVENT
END:VCALENDAR