BEGIN:VCALENDAR
VERSION:2.0
PRODID:-//Asociación Educadora Argentina Rudolf Steiner - ECPv6.15.16//NONSGML v1.0//EN
CALSCALE:GREGORIAN
METHOD:PUBLISH
X-ORIGINAL-URL:https://colegiosteiner.edu.ar
X-WR-CALDESC:Eventos para Asociación Educadora Argentina Rudolf Steiner
REFRESH-INTERVAL;VALUE=DURATION:PT1H
X-Robots-Tag:noindex
X-PUBLISHED-TTL:PT1H
BEGIN:VTIMEZONE
TZID:America/Argentina/Buenos_Aires
BEGIN:STANDARD
TZOFFSETFROM:-0300
TZOFFSETTO:-0300
TZNAME:-03
DTSTART:20220101T000000
END:STANDARD
END:VTIMEZONE
BEGIN:VEVENT
DTSTART;TZID=America/Argentina/Buenos_Aires:20230925T173000
DTEND;TZID=America/Argentina/Buenos_Aires:20230929T213000
DTSTAMP:20260420T074514
CREATED:20230919T150355Z
LAST-MODIFIED:20230925T125414Z
UID:1546-1695663000-1696023000@colegiosteiner.edu.ar
SUMMARY:Exposiciones Trabajos Finales del 12avo
DESCRIPTION:LINK PARA VER LAS EXPOSICIONES ONLINE: https://shorturl.at/dloX0 \n  \nQuerida comunidad: \nCon gran alegría los invitamos a presenciar las exposiciones de Trabajo Final que realizarán las y los jóvenes del 12avo grado. Las mismas se desarrollarán los días lunes 25\, martes 26 y miércoles 27 de septiembre de 17.45 a 21.30 h y los días jueves 28 y viernes 29 de septiembre de 17.15 a 21.30 h. \nEste hito de la trayectoria escolar que propone nuestra escuela marca el cierre de un proceso de trabajo que comenzó un año atrás\, durante el cuál los jóvenes realizaron la investigación de un tema seleccionado\, acompañado de un espacio de práctica en relación al mismo. \nCuerpo docente \n  \nA continuación\, les compartimos el cronograma de presentaciones. Las entradas serán entregadas por las y los jóvenes y no son para toda la jornada\, sino para cada bloque.
URL:https://colegiosteiner.edu.ar/evento/exposiciones-trabajos-finales-del-12/
LOCATION:Fundación San Rafael\, Ramallo 2606\, Ciudad Autónoma de Buenos Aires\, Buenos Aires\, 1429\, Argentina
CATEGORIES:Eventos
ATTACH;FMTTYPE=image/jpeg:https://colegiosteiner.edu.ar/web22/wp-content/uploads/2023/09/Trabajos-Finales-2023.jpeg
END:VEVENT
END:VCALENDAR