BEGIN:VCALENDAR
VERSION:2.0
PRODID:-//Asociación Educadora Argentina Rudolf Steiner - ECPv6.15.16//NONSGML v1.0//EN
CALSCALE:GREGORIAN
METHOD:PUBLISH
X-WR-CALNAME:Asociación Educadora Argentina Rudolf Steiner
X-ORIGINAL-URL:https://colegiosteiner.edu.ar
X-WR-CALDESC:Eventos para Asociación Educadora Argentina Rudolf Steiner
REFRESH-INTERVAL;VALUE=DURATION:PT1H
X-Robots-Tag:noindex
X-PUBLISHED-TTL:PT1H
BEGIN:VTIMEZONE
TZID:America/Argentina/Buenos_Aires
BEGIN:STANDARD
TZOFFSETFROM:-0300
TZOFFSETTO:-0300
TZNAME:-03
DTSTART:20220101T000000
END:STANDARD
END:VTIMEZONE
BEGIN:VEVENT
DTSTART;TZID=America/Argentina/Buenos_Aires:20231201T190000
DTEND;TZID=America/Argentina/Buenos_Aires:20231201T210000
DTSTAMP:20260420T045953
CREATED:20231124T130157Z
LAST-MODIFIED:20231124T130157Z
UID:1670-1701457200-1701464400@colegiosteiner.edu.ar
SUMMARY:Charla/Taller “Hacia el Corazón del Adviento”
DESCRIPTION:Querida comunidad: \nLas y los invitamos a la charla/taller “Hacia el Corazón del Adviento: una profundización sobre la época. Disponer el corazón para un presentir superior».\nLa charla será teórica y artística y estará a cargo de docentes de primaria. Se realizará el viernes 1° de diciembre\, a las 19 h\, en Ignacio Warnes 1357\, Florida. \n¡Los esperamos!
URL:https://colegiosteiner.edu.ar/evento/charla-taller-hacia-el-corazon-del-adviento/
LOCATION:Asociación Educadora Argentina Rudolf Steiner\, Ignacio Warnes 1357\, Florida\, Buenos Aires\, 1602\, Argentina
CATEGORIES:Eventos,Seminario para familias
ATTACH;FMTTYPE=image/jpeg:https://colegiosteiner.edu.ar/web22/wp-content/uploads/2023/11/WhatsApp-Image-2023-11-24-at-9.07.38-AM.jpeg
END:VEVENT
END:VCALENDAR