BEGIN:VCALENDAR
VERSION:2.0
PRODID:-//Asociación Educadora Argentina Rudolf Steiner - ECPv6.15.16//NONSGML v1.0//EN
CALSCALE:GREGORIAN
METHOD:PUBLISH
X-ORIGINAL-URL:https://colegiosteiner.edu.ar
X-WR-CALDESC:Eventos para Asociación Educadora Argentina Rudolf Steiner
REFRESH-INTERVAL;VALUE=DURATION:PT1H
X-Robots-Tag:noindex
X-PUBLISHED-TTL:PT1H
BEGIN:VTIMEZONE
TZID:America/Argentina/Buenos_Aires
BEGIN:STANDARD
TZOFFSETFROM:-0300
TZOFFSETTO:-0300
TZNAME:-03
DTSTART:20230101T000000
END:STANDARD
END:VTIMEZONE
BEGIN:VEVENT
DTSTART;TZID=America/Argentina/Buenos_Aires:20240216T190000
DTEND;TZID=America/Argentina/Buenos_Aires:20240216T203000
DTSTAMP:20260420T021527
CREATED:20240215T122635Z
LAST-MODIFIED:20240215T124908Z
UID:1749-1708110000-1708115400@colegiosteiner.edu.ar
SUMMARY:Conferencia para familias a cargo de Alejandro Urtizberea "La vida económica y la creación de imágenes colectivas como el desafío de nuestra época"
DESCRIPTION:Querida comunidad: \nCompartimos con ustedes la invitación a la conferencia «La vida económica y la creación de imágenes colectivas como desafío de nuestra época»\, que estará a cargo de Alejandro Urtizberea\, el próximo viernes 16 de febrero\, de 19 a 20.30 h en Warnes 1357\, Florida. \nEste año nos propusimos como objetivo iniciar el año con un curso intensivo de Economía basado en los principios antroposóficos. El mismo lo realizaremos Tanten\, maestras\, profesores y las familias que integran la Comisión Directiva. Serán cuatro días\, del 14 al 17 de febrero en largas jornadas de profundización. Nos acompañará en este proceso Alejandro Urtizberea\, miembro de la Sociedad Antroposófica\, quien aportará su experiencia en el tema. \nEs en el marco de este trabajo que Alejandro dará una charla a padres y madres\, abuelos\, tíos y tías de nuestra escuela. Esperamos que muchos puedan participar. Se adjunta el programa. \nDe este trabajo esperamos que deriven los abordajes que el futuro de la Escuela necesita. \n¡Los esperamos!\nTanten\, Maestras y Profesores \n  \nDescargar el Programa
URL:https://colegiosteiner.edu.ar/evento/conferencia-para-familias-a-cargo-de-alejandro-urtizberea-la-vida-economica-y-la-creacion-de-imagenes-colectivas-como-el-desafio-de-nuestra-epoca/
LOCATION:Asociación Educadora Argentina Rudolf Steiner\, Ignacio Warnes 1357\, Florida\, Buenos Aires\, 1602\, Argentina
CATEGORIES:Charlas abiertas,Eventos,Seminario para familias
ATTACH;FMTTYPE=image/jpeg:https://colegiosteiner.edu.ar/web22/wp-content/uploads/2024/02/Invitacion-Conferencias.jpeg
END:VEVENT
END:VCALENDAR