BEGIN:VCALENDAR
VERSION:2.0
PRODID:-//Asociación Educadora Argentina Rudolf Steiner - ECPv6.15.16//NONSGML v1.0//EN
CALSCALE:GREGORIAN
METHOD:PUBLISH
X-WR-CALNAME:Asociación Educadora Argentina Rudolf Steiner
X-ORIGINAL-URL:https://colegiosteiner.edu.ar
X-WR-CALDESC:Eventos para Asociación Educadora Argentina Rudolf Steiner
REFRESH-INTERVAL;VALUE=DURATION:PT1H
X-Robots-Tag:noindex
X-PUBLISHED-TTL:PT1H
BEGIN:VTIMEZONE
TZID:America/Argentina/Buenos_Aires
BEGIN:STANDARD
TZOFFSETFROM:-0300
TZOFFSETTO:-0300
TZNAME:-03
DTSTART:20230101T000000
END:STANDARD
END:VTIMEZONE
BEGIN:VEVENT
DTSTART;TZID=America/Argentina/Buenos_Aires:20240614T150000
DTEND;TZID=America/Argentina/Buenos_Aires:20240614T170000
DTSTAMP:20260419T203907
CREATED:20240528T112119Z
LAST-MODIFIED:20240528T120449Z
UID:2104-1718377200-1718384400@colegiosteiner.edu.ar
SUMMARY:Cuento de marionetas "Madre Nieve"
DESCRIPTION:Los esperamos el próximo viernes 14 de junio a disfrutar del cuento de marionetas «Madre Nieve» en el Jardín\, de 15 a 17 h (última función 16.30 h) en O’Higgins 1235\, Florida. La obra esta destinada para niñas y niños desde los tres años hasta primer grado inclusive.\nSe suspende por lluvia y la contribución es voluntaria.
URL:https://colegiosteiner.edu.ar/evento/cuento-de-marionetas-madre-nieve/
LOCATION:Jardín de Infantes Rudolf Steiner\, Gral. Bernardo O'higgins 1235\, Florida\, Vicente López\, Provincia de Buenos Aires\, 1602\, Argentina
CATEGORIES:Eventos
ATTACH;FMTTYPE=image/jpeg:https://colegiosteiner.edu.ar/web22/wp-content/uploads/2024/05/Madre-Nieve.jpeg
END:VEVENT
END:VCALENDAR