BEGIN:VCALENDAR
VERSION:2.0
PRODID:-//Asociación Educadora Argentina Rudolf Steiner - ECPv6.15.16//NONSGML v1.0//EN
CALSCALE:GREGORIAN
METHOD:PUBLISH
X-ORIGINAL-URL:https://colegiosteiner.edu.ar
X-WR-CALDESC:Eventos para Asociación Educadora Argentina Rudolf Steiner
REFRESH-INTERVAL;VALUE=DURATION:PT1H
X-Robots-Tag:noindex
X-PUBLISHED-TTL:PT1H
BEGIN:VTIMEZONE
TZID:America/Argentina/Buenos_Aires
BEGIN:STANDARD
TZOFFSETFROM:-0300
TZOFFSETTO:-0300
TZNAME:-03
DTSTART:20230101T000000
END:STANDARD
END:VTIMEZONE
BEGIN:VEVENT
DTSTART;TZID=America/Argentina/Buenos_Aires:20240928T120000
DTEND;TZID=America/Argentina/Buenos_Aires:20240928T170000
DTSTAMP:20260419T162504
CREATED:20240912T113050Z
LAST-MODIFIED:20240924T133723Z
UID:2340-1727524800-1727542800@colegiosteiner.edu.ar
SUMMARY:Kermesse Fest
DESCRIPTION:¡Los invitamos a la Kermesse Fest! 🎉 \nEl sábado 28 de septiembre\, de 12 a 17 h\, los esperamos para festejar el cumpleaños de la escuela y pasar una tarde llena de diversión en familia. Habrá juegos\, talleres para niñas y niños\, charlas para adultos y\, por supuesto\, un delicioso buffet dulce y salado para disfrutar. \nTodo lo recaudado será destinado para el nuevo edificio de la secundaria. \nSi llueve\, lo reprogramamos para el domingo 29 de septiembre. \n¡Los esperamos! \n 
URL:https://colegiosteiner.edu.ar/evento/kermesse-fest/
LOCATION:Asociación Educadora Argentina Rudolf Steiner\, Ignacio Warnes 1357\, Florida\, Buenos Aires\, 1602\, Argentina
CATEGORIES:Charlas abiertas,Eventos,fiestas y celebraciones
ATTACH;FMTTYPE=image/jpeg:https://colegiosteiner.edu.ar/web22/wp-content/uploads/2024/09/Kermesse-Fest-Colegio-Rudolf-Steiner-1.jpeg
END:VEVENT
END:VCALENDAR