BEGIN:VCALENDAR
VERSION:2.0
PRODID:-//Asociación Educadora Argentina Rudolf Steiner - ECPv6.15.16//NONSGML v1.0//EN
CALSCALE:GREGORIAN
METHOD:PUBLISH
X-WR-CALNAME:Asociación Educadora Argentina Rudolf Steiner
X-ORIGINAL-URL:https://colegiosteiner.edu.ar
X-WR-CALDESC:Eventos para Asociación Educadora Argentina Rudolf Steiner
REFRESH-INTERVAL;VALUE=DURATION:PT1H
X-Robots-Tag:noindex
X-PUBLISHED-TTL:PT1H
BEGIN:VTIMEZONE
TZID:America/Argentina/Buenos_Aires
BEGIN:STANDARD
TZOFFSETFROM:-0300
TZOFFSETTO:-0300
TZNAME:-03
DTSTART:20230101T000000
END:STANDARD
END:VTIMEZONE
BEGIN:VEVENT
DTSTART;TZID=America/Argentina/Buenos_Aires:20241207T120000
DTEND;TZID=America/Argentina/Buenos_Aires:20241207T180000
DTSTAMP:20260419T123951
CREATED:20241113T144054Z
LAST-MODIFIED:20241113T144054Z
UID:2490-1733572800-1733594400@colegiosteiner.edu.ar
SUMMARY:Feria de Artesanos de Adviento
DESCRIPTION:Querida comunidad: \nLos invitamos a compartir con nosotros la Feria de Artesanos de Adviento el sábado 7 de diciembre de 12 a 18 h. Nos reuniremos para disfrutar de un encuentro especial y prepararnos juntos para la Navidad. \nEste año podremos disfrutar de:\n🎶 Música en vivo que envolverá el ambiente\n🍲 Un buffet delicioso para compartir en familia\n🎨 Talleres creativos para todas las edades\n🎁 Artesanías únicas\, ideales para regalar en esta época\n🕊️ Una charla especial para adultos\, “De Jesús a Cristo\, de Navidad a Epifanía” (Cristología antroposófica) a las 15 h. Aporte a voluntad para formación docente. \nSerá una ocasión para reunirnos y vivir juntos el espíritu de Adviento. \n🌧️ En caso de lluvia\, la feria se trasladará al domingo 8 de diciembre. \n¡Esperamos contar con su presencia! ✨❤️
URL:https://colegiosteiner.edu.ar/evento/feria-de-artesanos-de-adviento/
LOCATION:Asociación Educadora Argentina Rudolf Steiner\, Ignacio Warnes 1357\, Florida\, Buenos Aires\, 1602\, Argentina
CATEGORIES:Eventos,fiestas y celebraciones
ATTACH;FMTTYPE=image/jpeg:https://colegiosteiner.edu.ar/web22/wp-content/uploads/2024/11/Feria-de-adviento.jpeg
END:VEVENT
BEGIN:VEVENT
DTSTART;TZID=America/Argentina/Buenos_Aires:20241207T163000
DTEND;TZID=America/Argentina/Buenos_Aires:20241207T170000
DTSTAMP:20260419T123951
CREATED:20241128T111209Z
LAST-MODIFIED:20241128T111407Z
UID:2549-1733589000-1733590800@colegiosteiner.edu.ar
SUMMARY:Cuento de mesa "El Pastorcito"
DESCRIPTION:En el marco de nuestra Feria de Adviento\, el día sábado 7 de diciembre a las 16.30 h invitamos a niños de 3 a 7 años a disfrutar del cuento de mesa «El Pastorcito». \n¡Los esperamos!
URL:https://colegiosteiner.edu.ar/evento/cuento-de-mesa-el-pastorcito/
LOCATION:Asociación Educadora Argentina Rudolf Steiner\, Ignacio Warnes 1357\, Florida\, Buenos Aires\, 1602\, Argentina
CATEGORIES:Eventos
ATTACH;FMTTYPE=image/jpeg:https://colegiosteiner.edu.ar/web22/wp-content/uploads/2024/11/Cuento-El-Pastorcito.jpeg
END:VEVENT
END:VCALENDAR