BEGIN:VCALENDAR
VERSION:2.0
PRODID:-//Asociación Educadora Argentina Rudolf Steiner - ECPv6.15.16//NONSGML v1.0//EN
CALSCALE:GREGORIAN
METHOD:PUBLISH
X-WR-CALNAME:Asociación Educadora Argentina Rudolf Steiner
X-ORIGINAL-URL:https://colegiosteiner.edu.ar
X-WR-CALDESC:Eventos para Asociación Educadora Argentina Rudolf Steiner
REFRESH-INTERVAL;VALUE=DURATION:PT1H
X-Robots-Tag:noindex
X-PUBLISHED-TTL:PT1H
BEGIN:VTIMEZONE
TZID:America/Argentina/Buenos_Aires
BEGIN:STANDARD
TZOFFSETFROM:-0300
TZOFFSETTO:-0300
TZNAME:-03
DTSTART:20220101T000000
END:STANDARD
END:VTIMEZONE
BEGIN:VEVENT
DTSTART;TZID=America/Argentina/Buenos_Aires:20231111T203000
DTEND;TZID=America/Argentina/Buenos_Aires:20231111T220000
DTSTAMP:20260420T045935
CREATED:20231103T184600Z
LAST-MODIFIED:20231103T184600Z
UID:1648-1699734600-1699740000@colegiosteiner.edu.ar
SUMMARY:Obra teatral de 8vo: Robin Hood
DESCRIPTION:Las y los jóvenes de octavo presentan su obra teatral «Robin Hood». Darán dos funciones: sábado 11 y domingo 12 de noviembre a las 20.30 h en el auditorio de la Fundación San Rafael (Ramallo 2606\, CABA).\nQuienes estén interesados en las entradas\, podrán pedirlas a los jóvenes del curso. \n¡Los esperamos!
URL:https://colegiosteiner.edu.ar/evento/obra-teatral-de-8vo-robin-hood/
LOCATION:Fundación San Rafael\, Ramallo 2606\, Ciudad Autónoma de Buenos Aires\, Buenos Aires\, 1429\, Argentina
CATEGORIES:Eventos
ATTACH;FMTTYPE=image/jpeg:https://colegiosteiner.edu.ar/web22/wp-content/uploads/2023/11/WhatsApp-Image-2023-11-03-at-1.27.50-PM.jpeg
END:VEVENT
BEGIN:VEVENT
DTSTART;TZID=America/Argentina/Buenos_Aires:20231125T120000
DTEND;TZID=America/Argentina/Buenos_Aires:20231125T180000
DTSTAMP:20260420T045935
CREATED:20231108T181740Z
LAST-MODIFIED:20231108T181740Z
UID:1654-1700913600-1700935200@colegiosteiner.edu.ar
SUMMARY:Feria de Artesanos Adviento
DESCRIPTION:¡No se pierdan la Feria de Artesanos de Adviento! Se realizará el sábado 25 de noviembre de 12 a 18 h en Ignacio Warnes 1357\, Florida (ingreso por primaria). \nHabrá shows de música en vivo\, talleres\, buffet con cosas dulces y saladas\, y las mejores artesanías y diseños. \nEn caso de lluvia se suspende al domingo 26 de noviembre. \n¡Los esperamos!
URL:https://colegiosteiner.edu.ar/evento/feria-de-artesanos-adviento/
LOCATION:Asociación Educadora Argentina Rudolf Steiner\, Ignacio Warnes 1357\, Florida\, Buenos Aires\, 1602\, Argentina
CATEGORIES:Eventos,fiestas y celebraciones
ATTACH;FMTTYPE=image/jpeg:https://colegiosteiner.edu.ar/web22/wp-content/uploads/2023/11/FeriaAdviento.jpg
END:VEVENT
BEGIN:VEVENT
DTSTART;TZID=America/Argentina/Buenos_Aires:20231125T160000
DTEND;TZID=America/Argentina/Buenos_Aires:20231125T170000
DTSTAMP:20260420T045935
CREATED:20231115T173519Z
LAST-MODIFIED:20231115T173820Z
UID:1660-1700928000-1700931600@colegiosteiner.edu.ar
SUMMARY:Charla informativa: Jardín de Infantes Rudolf Steiner
DESCRIPTION:Los invitamos el sábado 25 de noviembre\, a las 16 h\, a la Charla informativa para conocer el Jardín de Infantes Rudolf Steiner.\nNos reunimos en Warnes 1357\, en el marco de la Feria de Adviento y desde allí vamos al Jardín (O’Higgins 1235\, Florida). Pueden venir con sus niñas y niños pequeños. \n¡Los esperamos! \nConsultas: charlasabiertas@colegiosteiner.edu.ar
URL:https://colegiosteiner.edu.ar/evento/charla-informativa-jardin-de-infantes-rudolf-steiner/
LOCATION:Asociación Educadora Argentina Rudolf Steiner\, Ignacio Warnes 1357\, Florida\, Buenos Aires\, 1602\, Argentina
CATEGORIES:Charlas abiertas
ATTACH;FMTTYPE=image/jpeg:https://colegiosteiner.edu.ar/web22/wp-content/uploads/2023/11/Charlajardin.jpeg
END:VEVENT
END:VCALENDAR