BEGIN:VCALENDAR
VERSION:2.0
PRODID:-//Asociación Educadora Argentina Rudolf Steiner - ECPv6.15.16//NONSGML v1.0//EN
CALSCALE:GREGORIAN
METHOD:PUBLISH
X-WR-CALNAME:Asociación Educadora Argentina Rudolf Steiner
X-ORIGINAL-URL:https://colegiosteiner.edu.ar
X-WR-CALDESC:Eventos para Asociación Educadora Argentina Rudolf Steiner
REFRESH-INTERVAL;VALUE=DURATION:PT1H
X-Robots-Tag:noindex
X-PUBLISHED-TTL:PT1H
BEGIN:VTIMEZONE
TZID:America/Argentina/Buenos_Aires
BEGIN:STANDARD
TZOFFSETFROM:-0300
TZOFFSETTO:-0300
TZNAME:-03
DTSTART:20230101T000000
END:STANDARD
END:VTIMEZONE
BEGIN:VEVENT
DTSTART;TZID=America/Argentina/Buenos_Aires:20240504T100000
DTEND;TZID=America/Argentina/Buenos_Aires:20240504T120000
DTSTAMP:20260419T203359
CREATED:20240424T173152Z
LAST-MODIFIED:20240426T192151Z
UID:1921-1714816800-1714824000@colegiosteiner.edu.ar
SUMMARY:Jornada de Otoño
DESCRIPTION:¡SUSPENDIDO! Por mal clima se cambia de fecha para el 4 de mayo de 10 a 12 h. \n  \nQuerida comunidad:\nCompartimos la invitación para la Jornada de Otoño\, el día sábado 27 de abril de 10 a 12 h en O’Higgins 1235\, Florida. Por lluvias se suspende al sábado 4 de mayo. \nVengan con sus hijos pequeños a conocer nuestro jardín de infantes. Los invitamos a disfrutar de un encuentro social y de trabajo\, así como lo hacemos desde hace muchos años. Podrán participar de tareas de jardinería\, amasado de pan y confección de adornos otoñales. También cantaremos canciones de la época. \n¡Los esperamos!
URL:https://colegiosteiner.edu.ar/evento/jornada-de-otono/
LOCATION:Jardín de Infantes Rudolf Steiner\, Gral. Bernardo O'higgins 1235\, Florida\, Vicente López\, Provincia de Buenos Aires\, 1602\, Argentina
CATEGORIES:Eventos
ATTACH;FMTTYPE=image/jpeg:https://colegiosteiner.edu.ar/web22/wp-content/uploads/2024/04/Jornada-de-otono.jpeg
END:VEVENT
BEGIN:VEVENT
DTSTART;TZID=America/Argentina/Buenos_Aires:20240525T120000
DTEND;TZID=America/Argentina/Buenos_Aires:20240525T170000
DTSTAMP:20260419T203359
CREATED:20240507T144813Z
LAST-MODIFIED:20240522T183433Z
UID:1997-1716638400-1716656400@colegiosteiner.edu.ar
SUMMARY:La peña de la Rudolf Steiner
DESCRIPTION:Querida comunidad: \nCon gran alegría invitamos a la Peña de la Rudolf Steiner el sábado 25 de mayo de 12 a 17 h. Habrá música en vivo\, clases de folclore y presentación de bailarines. Además\, estará presente la tradicional Feria Americana del 12° grado.\nLos esperamos con un riquísimo buffet con locro (habrá también locro vegano)\, choripán y\, para el postre\, mesa dulce con chocolate caliente y pastelitos. Traé tu vajilla para comer acá o tu táper para llevar. \nSi llueve se pasa al domingo 26 de mayo. \n¡Los esperamos! \n\n\n 
URL:https://colegiosteiner.edu.ar/evento/la-pena-de-la-rudolf-steiner/
LOCATION:Asociación Educadora Argentina Rudolf Steiner\, Ignacio Warnes 1357\, Florida\, Buenos Aires\, 1602\, Argentina
CATEGORIES:Eventos,fiestas y celebraciones
ATTACH;FMTTYPE=image/jpeg:https://colegiosteiner.edu.ar/web22/wp-content/uploads/2024/05/25-de-mayo.jpeg
END:VEVENT
END:VCALENDAR